BEGIN:VCALENDAR
VERSION:2.0
PRODID:-//Musikverein 1920 Kleinsteinbach e.V. - ECPv6.15.20//NONSGML v1.0//EN
CALSCALE:GREGORIAN
METHOD:PUBLISH
X-ORIGINAL-URL:https://www.musikverein-kleinsteinbach.de
X-WR-CALDESC:Veranstaltungen für Musikverein 1920 Kleinsteinbach e.V.
REFRESH-INTERVAL;VALUE=DURATION:PT1H
X-Robots-Tag:noindex
X-PUBLISHED-TTL:PT1H
BEGIN:VTIMEZONE
TZID:Europe/Paris
BEGIN:DAYLIGHT
TZOFFSETFROM:+0100
TZOFFSETTO:+0200
TZNAME:CEST
DTSTART:20250330T010000
END:DAYLIGHT
BEGIN:STANDARD
TZOFFSETFROM:+0200
TZOFFSETTO:+0100
TZNAME:CET
DTSTART:20251026T010000
END:STANDARD
BEGIN:DAYLIGHT
TZOFFSETFROM:+0100
TZOFFSETTO:+0200
TZNAME:CEST
DTSTART:20260329T010000
END:DAYLIGHT
BEGIN:STANDARD
TZOFFSETFROM:+0200
TZOFFSETTO:+0100
TZNAME:CET
DTSTART:20261025T010000
END:STANDARD
BEGIN:DAYLIGHT
TZOFFSETFROM:+0100
TZOFFSETTO:+0200
TZNAME:CEST
DTSTART:20270328T010000
END:DAYLIGHT
BEGIN:STANDARD
TZOFFSETFROM:+0200
TZOFFSETTO:+0100
TZNAME:CET
DTSTART:20271031T010000
END:STANDARD
END:VTIMEZONE
BEGIN:VEVENT
DTSTART;TZID=Europe/Paris:20260430T173000
DTEND;TZID=Europe/Paris:20260430T183000
DTSTAMP:20260421T211426
CREATED:20260201T112653Z
LAST-MODIFIED:20260415T182503Z
UID:1214-1777570200-1777573800@www.musikverein-kleinsteinbach.de
SUMMARY:Auftritt beim Maibaumstellen der FFW Kleinsteinbach
DESCRIPTION:
URL:https://www.musikverein-kleinsteinbach.de/event/auftritt-beim-maibaumstellen-der-ffw-kleinsteinbach-3/
END:VEVENT
END:VCALENDAR